BEGIN:VCALENDAR
VERSION:2.0
PRODID:-//hacksw/handcal//NONSGML v1.0//EN
CALSCALE:GREGORIAN
BEGIN:VEVENT
LOCATION:
SUMMARY:Deadly Story Event - Victorian Aboriginal Remembrance Service - MELBOURNE
DESCRIPTION:<p>This annual service honours the significant contribution that Aboriginal and Torres Strait Islander service people have made\, and continue to make\, in the Australian Defence Force.</p><ul>	<li><a data-auth="NotApplicable" data-linkindex="2" href="https://aus01.safelinks.protection.outlook.com/?url=https%3A%2F%2Fevents.humanitix.com%2F2026-victorian-aboriginal-remembrance-service&amp\;data=05%7C02%7C%7C8b4895fcb9864e07878e08de9911568d%7C83d9baa9273142d0b5211239119e74f7%7C0%7C0%7C639116496959770548%7CUnknown%7CTWFpbGZsb3d8eyJFbXB0eU1hcGkiOnRydWUsIlYiOiIwLjAuMDAwMCIsIlAiOiJXaW4zMiIsIkFOIjoiTWFpbCIsIldUIjoyfQ%3D%3D%7C0%7C%7C%7C&amp\;sdata=CJTPkEayp3ktL337gmpkKbkBrFpbXi8J3Nw6tAnprpk%3D&amp\;reserved=0" id="OWA6e67c157-9a8e-526c-795b-70627816d212" originalsrc="https://events.humanitix.com/2026-victorian-aboriginal-remembrance-service" rel="noopener noreferrer" target="_blank" title="Original URL: https://events.humanitix.com/2026-victorian-aboriginal-remembrance-service. Click or tap if you trust this link.">See Event Details</a>&nbsp\;&nbsp\;</li></ul>
DTSTART:20260531T110000
DTEND:20260531T130000
URL;VALUE=URI:https://deadlystory.com/page/culture/events-calendar/other/Victorian_Aboriginal_Remembrance_Service_-_MELBOURNE
DTSTAMP:20260422T214825
UID:69e8b58911832
END:VEVENT
END:VCALENDAR