BEGIN:VCALENDAR
VERSION:2.0
PRODID:-//hacksw/handcal//NONSGML v1.0//EN
CALSCALE:GREGORIAN
BEGIN:VEVENT
LOCATION:
SUMMARY:Deadly Story Event - Young Adults Dinner - KILSYTH
DESCRIPTION:<p>Hosted by Mullum Mullum. Our Young Adults Dinner is coming up on the 24th April @ Thai time in Kilsyth\, 6pm-8pm.</p><ul>	<li><a data-auth="NotApplicable" data-linkindex="1" href="https://aus01.safelinks.protection.outlook.com/?url=https%3A%2F%2Fwww.facebook.com%2Fphoto%2F%3Ffbid%3D1291002073184019%26set%3Da.571949598422607&amp\;data=05%7C02%7C%7C8b4895fcb9864e07878e08de9911568d%7C83d9baa9273142d0b5211239119e74f7%7C0%7C0%7C639116496959750550%7CUnknown%7CTWFpbGZsb3d8eyJFbXB0eU1hcGkiOnRydWUsIlYiOiIwLjAuMDAwMCIsIlAiOiJXaW4zMiIsIkFOIjoiTWFpbCIsIldUIjoyfQ%3D%3D%7C0%7C%7C%7C&amp\;sdata=MSOMLSaqZMcMS3drVwLvoBHyXOBYGm3seEzpjsNSZTM%3D&amp\;reserved=0" id="OWAc568a192-aad8-8fe8-d231-bf56b48f11af" originalsrc="https://www.facebook.com/photo/?fbid=1291002073184019&amp\;set=a.571949598422607" rel="noopener noreferrer" target="_blank" title="Original URL: https://www.facebook.com/photo/?fbid=1291002073184019&amp\;set=a.571949598422607. Click or tap if you trust this link.">See Event Details</a>&nbsp\;</li></ul>
DTSTART:20260424T180000
DTEND:20260424T200000
URL;VALUE=URI:https://deadlystory.com/page/culture/events-calendar/social/Young_Adults_Dinner_-_KILSYTH
DTSTAMP:20260420T113259
UID:69e5824be77c6
END:VEVENT
END:VCALENDAR