BEGIN:VCALENDAR
VERSION:2.0
PRODID:-//hacksw/handcal//NONSGML v1.0//EN
CALSCALE:GREGORIAN
BEGIN:VEVENT
LOCATION:
SUMMARY:Deadly Story Event - Short Black Opera (SBO) for Kids - SHEPPARTON
DESCRIPTION:<p>Rumbalara Football Netball Club will once again be hosting the Short Black Opera (SBO) for Kids program\, a unique opportunity for First Nation students in Years 3&ndash\;6 to explore their culture through music\, language and song.</p><ul>	<li><a data-auth="NotApplicable" data-linkindex="7" href="https://aus01.safelinks.protection.outlook.com/?url=https%3A%2F%2Fwww.facebook.com%2Fphoto%2F%3Ffbid%3D1384350997045888%26set%3Da.485187810295549&amp\;data=05%7C02%7C%7C94da2aa42d5d473688a508de90437e69%7C83d9baa9273142d0b5211239119e74f7%7C0%7C0%7C639106816719093839%7CUnknown%7CTWFpbGZsb3d8eyJFbXB0eU1hcGkiOnRydWUsIlYiOiIwLjAuMDAwMCIsIlAiOiJXaW4zMiIsIkFOIjoiTWFpbCIsIldUIjoyfQ%3D%3D%7C0%7C%7C%7C&amp\;sdata=OauZ9Tal0AvRMpZqyrXoUebfGQAcC2qrbQc2y4tQNlw%3D&amp\;reserved=0" id="OWA2d979681-16e9-8dd2-3fd2-ecdee5e9cf8c" originalsrc="https://www.facebook.com/photo/?fbid=1384350997045888&amp\;set=a.485187810295549" rel="noopener noreferrer" target="_blank" title="Original URL: https://www.facebook.com/photo/?fbid=1384350997045888&amp\;set=a.485187810295549. Click or tap if you trust this link.">See Event Details</a>&nbsp\;</li></ul>
DTSTART:20260504T093000
DTEND:20260508T123000
URL;VALUE=URI:https://deadlystory.com/page/culture/events-calendar/music/Short_Black_Opera_SBO_for_Kids_-_SHEPPARTON
DTSTAMP:20260421T195244
UID:69e748ec26511
END:VEVENT
END:VCALENDAR