BEGIN:VCALENDAR
VERSION:2.0
PRODID:-//hacksw/handcal//NONSGML v1.0//EN
CALSCALE:GREGORIAN
BEGIN:VEVENT
LOCATION:
SUMMARY:Deadly Story Event - Netball Clinic & Umpiring Workshop - MILDURA
DESCRIPTION:<p>Join us at our Albury Koorie Clinic and Introduction to Umpiring Workshop\, an opportunity for young mob&nbsp\;to get together\, learn to play netball and further develop netball skills!&nbsp\;</p><ul>	<li><a href="https://vic.netball.com.au/first-nations-events-programs" target="_blank">See Event Details</a></li></ul>
DTSTART:20260708T100000
DTEND:20260708T120000
URL;VALUE=URI:https://deadlystory.com/page/culture/events-calendar/sports/Netball_Clinic_Umpiring_Workshop_-_MILDURA
DTSTAMP:20260424T014916
UID:69ea3f7c3e86a
END:VEVENT
END:VCALENDAR