BEGIN:VCALENDAR
VERSION:2.0
PRODID:-//hacksw/handcal//NONSGML v1.0//EN
CALSCALE:GREGORIAN
BEGIN:VEVENT
LOCATION:
SUMMARY:Deadly Story Event - Treaty in the Park - FITZROY NORTH
DESCRIPTION:<p>Join us for a day of good food\, good company and fun activities at Treaty in the Park.</p><ul>	<li><a data-auth="NotApplicable" data-linkindex="17" href="https://aus01.safelinks.protection.outlook.com/?url=https%3A%2F%2Fwww.eventbrite.com.au%2Fe%2Ftreaty-in-the-park-naarm-tickets-1985031303063%3Faff%3Debdsoporgprofile&amp\;data=05%7C02%7C%7Cff0c95496538413a10c608de8a07df38%7C83d9baa9273142d0b5211239119e74f7%7C0%7C0%7C639099963590345033%7CUnknown%7CTWFpbGZsb3d8eyJFbXB0eU1hcGkiOnRydWUsIlYiOiIwLjAuMDAwMCIsIlAiOiJXaW4zMiIsIkFOIjoiTWFpbCIsIldUIjoyfQ%3D%3D%7C0%7C%7C%7C&amp\;sdata=1f%2Bd91WMCQtaWxsxtEVv0GdAl1O0%2FOPuxyWKJyHeroE%3D&amp\;reserved=0" id="OWA2c28dab5-63d0-1414-4bd8-4fc15c0b4e39" originalsrc="https://www.eventbrite.com.au/e/treaty-in-the-park-naarm-tickets-1985031303063?aff=ebdsoporgprofile" rel="noopener noreferrer" target="_blank" title="Original URL: https://www.eventbrite.com.au/e/treaty-in-the-park-naarm-tickets-1985031303063?aff=ebdsoporgprofile. Click or tap if you trust this link.">See Event Details</a>&nbsp\;</li></ul>
DTSTART:20260412T130000
DTEND:20260412T170000
URL;VALUE=URI:https://deadlystory.com/page/culture/events-calendar/social/Treaty_in_the_Park_-_FITZROY_NORTH
DTSTAMP:20260423T230222
UID:69ea185ed3f40
END:VEVENT
END:VCALENDAR