BEGIN:VCALENDAR
VERSION:2.0
PRODID:-//hacksw/handcal//NONSGML v1.0//EN
CALSCALE:GREGORIAN
BEGIN:VEVENT
LOCATION:
SUMMARY:Deadly Story Event - Deadlier Teens - MAIN RIDGE
DESCRIPTION:<p>For Secondary students. Family &amp\; kin welcome with lunch provided Please let us know if you would like to come on the Willum Warrain bus. Limited seats available. RSVP by 2 April.</p><ul>	<li><a data-auth="NotApplicable" data-linkindex="4" href="https://aus01.safelinks.protection.outlook.com/?url=https%3A%2F%2Fwww.facebook.com%2Fphoto%2F%3Ffbid%3D1282076964111254%26set%3Da.496142312704727&amp\;data=05%7C02%7C%7Cff0c95496538413a10c608de8a07df38%7C83d9baa9273142d0b5211239119e74f7%7C0%7C0%7C639099963590066091%7CUnknown%7CTWFpbGZsb3d8eyJFbXB0eU1hcGkiOnRydWUsIlYiOiIwLjAuMDAwMCIsIlAiOiJXaW4zMiIsIkFOIjoiTWFpbCIsIldUIjoyfQ%3D%3D%7C0%7C%7C%7C&amp\;sdata=o%2FMPj4m0wORuZz%2FdfMl93d9Ei7jfO0NTJjFbGuDaRIE%3D&amp\;reserved=0" id="OWA5d20bfdb-2ec1-5ebb-6c90-a9ce88ee5061" originalsrc="https://www.facebook.com/photo/?fbid=1282076964111254&amp\;set=a.496142312704727" rel="noopener noreferrer" target="_blank" title="Original URL: https://www.facebook.com/photo/?fbid=1282076964111254&amp\;set=a.496142312704727. Click or tap if you trust this link.">See Event Details</a>&nbsp\;</li></ul>
DTSTART:20260410T100000
DTEND:20260410T140000
URL;VALUE=URI:https://deadlystory.com/page/culture/events-calendar/other/Deadlier_Teens_-_MAIN_RIDGE
DTSTAMP:20260423T230433
UID:69ea18e1c2851
END:VEVENT
END:VCALENDAR