BEGIN:VCALENDAR
VERSION:2.0
PRODID:-//hacksw/handcal//NONSGML v1.0//EN
CALSCALE:GREGORIAN
BEGIN:VEVENT
LOCATION:
SUMMARY:Deadly Story Event - Woi wurrung Storytime - BRUNSWICK
DESCRIPTION:<p>Learn about Wurundjeri culture\, Woi-wurrung language and Dreaming stories through storytelling\, dance and song. This event is suitable for families with preschool aged children. Bookings not required.</p><ul>	<li><a data-auth="NotApplicable" data-linkindex="3" href="https://aus01.safelinks.protection.outlook.com/?url=https%3A%2F%2Fwww.eventbrite.com.au%2Fe%2Fschool-holiday-activity-woi-wurrung-storytime-brunswick-library-tickets-1984854668745%3Faff%3Debdssbdestsearch&amp\;data=05%7C02%7C%7Cff0c95496538413a10c608de8a07df38%7C83d9baa9273142d0b5211239119e74f7%7C0%7C0%7C639099963590046418%7CUnknown%7CTWFpbGZsb3d8eyJFbXB0eU1hcGkiOnRydWUsIlYiOiIwLjAuMDAwMCIsIlAiOiJXaW4zMiIsIkFOIjoiTWFpbCIsIldUIjoyfQ%3D%3D%7C0%7C%7C%7C&amp\;sdata=zkMkZstm5q4zw%2BzY2AZxuSlN2bzuy6SoyxZtNbWicns%3D&amp\;reserved=0" id="OWA25a253b1-a5d3-6532-8ffb-7fde87e091d2" originalsrc="https://www.eventbrite.com.au/e/school-holiday-activity-woi-wurrung-storytime-brunswick-library-tickets-1984854668745?aff=ebdssbdestsearch" rel="noopener noreferrer" target="_blank" title="Original URL: https://www.eventbrite.com.au/e/school-holiday-activity-woi-wurrung-storytime-brunswick-library-tickets-1984854668745?aff=ebdssbdestsearch. Click or tap if you trust this link.">See Event Details</a>&nbsp\;</li></ul><p>&nbsp\;</p>
DTSTART:20260409T110000
DTEND:20260409T120000
URL;VALUE=URI:https://deadlystory.com/page/culture/events-calendar/literary/Woi_wurrung_Storytime_-_BRUNSWICK
DTSTAMP:20260423T223750
UID:69ea129e4e742
END:VEVENT
END:VCALENDAR