BEGIN:VCALENDAR
VERSION:2.0
PRODID:-//hacksw/handcal//NONSGML v1.0//EN
CALSCALE:GREGORIAN
BEGIN:VEVENT
LOCATION:
SUMMARY:Deadly Story Event - Circus Skills Workshop - FRANKSTON
DESCRIPTION:<p>Join Na Djinang Circus\, one of Australia&rsquo\;s most imaginative contemporary circus companies\, for a powerful and playful Circus Skills Workshop these school holidays. Ages 5 - 12.</p><ul>	<li><a data-auth="NotApplicable" data-linkindex="2" href="https://aus01.safelinks.protection.outlook.com/?url=https%3A%2F%2Fwww.facebook.com%2FNairmMarrDjambana%2Fposts%2Fpfbid034sWSioSP32g9MH6nzKfPgZc2mbK5VDm2KUdd5i4z6MZLpgMp2stPS5gHbPzuNLJgl&amp\;data=05%7C02%7C%7Cff0c95496538413a10c608de8a07df38%7C83d9baa9273142d0b5211239119e74f7%7C0%7C0%7C639099963590026162%7CUnknown%7CTWFpbGZsb3d8eyJFbXB0eU1hcGkiOnRydWUsIlYiOiIwLjAuMDAwMCIsIlAiOiJXaW4zMiIsIkFOIjoiTWFpbCIsIldUIjoyfQ%3D%3D%7C0%7C%7C%7C&amp\;sdata=oFAasmO3rFrkncbf9FhJacQ1Mgm8yl7nb9kApg6L0Ws%3D&amp\;reserved=0" id="OWAf30111f9-caf5-0b3f-392c-669a3c8ff553" originalsrc="https://www.facebook.com/NairmMarrDjambana/posts/pfbid034sWSioSP32g9MH6nzKfPgZc2mbK5VDm2KUdd5i4z6MZLpgMp2stPS5gHbPzuNLJgl" rel="noopener noreferrer" target="_blank" title="Original URL: https://www.facebook.com/NairmMarrDjambana/posts/pfbid034sWSioSP32g9MH6nzKfPgZc2mbK5VDm2KUdd5i4z6MZLpgMp2stPS5gHbPzuNLJgl. Click or tap if you trust this link.">See Event Details</a>&nbsp\;</li></ul>
DTSTART:20260409T100000
DTEND:20260409T113000
URL;VALUE=URI:https://deadlystory.com/page/culture/events-calendar/sports/Circus_Skills_Workshop_-_FRANKSTON
DTSTAMP:20260423T230156
UID:69ea18449f25c
END:VEVENT
END:VCALENDAR