BEGIN:VCALENDAR
VERSION:2.0
PRODID:-//hacksw/handcal//NONSGML v1.0//EN
CALSCALE:GREGORIAN
BEGIN:VEVENT
LOCATION:
SUMMARY:Deadly Story Event - Healthy\, Happy\, Deadly - SUNBURY
DESCRIPTION:<p>Learn more about health initiatives and supports to help our mob enjoy long and healthy lives. Also Get your Flu shot before winter!</p><ul>	<li><a data-auth="NotApplicable" data-linkindex="6" href="https://aus01.safelinks.protection.outlook.com/?url=https%3A%2F%2Fwww.facebook.com%2Fevents%2F867117383022874%2F&amp\;data=05%7C02%7C%7Ca9c06db41ef14630752208de84903686%7C83d9baa9273142d0b5211239119e74f7%7C0%7C0%7C639093952103906969%7CUnknown%7CTWFpbGZsb3d8eyJFbXB0eU1hcGkiOnRydWUsIlYiOiIwLjAuMDAwMCIsIlAiOiJXaW4zMiIsIkFOIjoiTWFpbCIsIldUIjoyfQ%3D%3D%7C0%7C%7C%7C&amp\;sdata=6UFqVLYborOiy7iSGOXTeiuk1OKpEwFCOqRJ7aP8f1c%3D&amp\;reserved=0" id="OWAf3c988ad-dd8a-7de7-aea1-0be8a390ac7f" originalsrc="https://www.facebook.com/events/867117383022874/" rel="noopener noreferrer" target="_blank" title="Original URL: https://www.facebook.com/events/867117383022874/. Click or tap if you trust this link.">See Event Details</a>&nbsp\;</li></ul>
DTSTART:20260410T110000
DTEND:20260410T140000
URL;VALUE=URI:https://deadlystory.com/page/culture/events-calendar/Health_Wellbeing/Healthy_Happy_Deadly_-_SUNBURY
DTSTAMP:20260423T224223
UID:69ea13afbc492
END:VEVENT
END:VCALENDAR