BEGIN:VCALENDAR
VERSION:2.0
PRODID:-//hacksw/handcal//NONSGML v1.0//EN
CALSCALE:GREGORIAN
BEGIN:VEVENT
LOCATION:
SUMMARY:Deadly Story Event - VAEAI Koorie Big Day Out - WARRNAMBOOL
DESCRIPTION:<p>The Koorie Big Day Out brings together the Koorie units of Victorian Universities\, showcasing opportunities of future pathways and careers to young mob. Bus pick-up service available.</p><ul>	<li><a data-auth="NotApplicable" data-linkindex="5" href="https://aus01.safelinks.protection.outlook.com/?url=https%3A%2F%2Fwww.facebook.com%2Fphoto%2F%3Ffbid%3D1381692967332498%26set%3Dpcb.1381693467332448&amp\;data=05%7C02%7C%7Ca9c06db41ef14630752208de84903686%7C83d9baa9273142d0b5211239119e74f7%7C0%7C0%7C639093952103888655%7CUnknown%7CTWFpbGZsb3d8eyJFbXB0eU1hcGkiOnRydWUsIlYiOiIwLjAuMDAwMCIsIlAiOiJXaW4zMiIsIkFOIjoiTWFpbCIsIldUIjoyfQ%3D%3D%7C0%7C%7C%7C&amp\;sdata=Buk92WXFVTx8%2B%2FLwu4FvE%2BDB9EImZVhCq%2BAwLUQSQ5k%3D&amp\;reserved=0" id="OWAabc51370-9b02-ff0a-dd70-66f7d723ebda" originalsrc="https://www.facebook.com/photo/?fbid=1381692967332498&amp\;set=pcb.1381693467332448" rel="noopener noreferrer" target="_blank" title="Original URL: https://www.facebook.com/photo/?fbid=1381692967332498&amp\;set=pcb.1381693467332448. Click or tap if you trust this link.">See Event Details</a></li></ul><p>&nbsp\;</p><p>&nbsp\;</p>
DTSTART:20260428T103000
DTEND:20260428T143000
URL;VALUE=URI:https://deadlystory.com/page/culture/events-calendar/education/VAEAI_Koorie_Big_Day_Out_-_WARRNAMBOOL
DTSTAMP:20260423T230551
UID:69ea192f76a93
END:VEVENT
END:VCALENDAR