BEGIN:VCALENDAR
VERSION:2.0
PRODID:-//hacksw/handcal//NONSGML v1.0//EN
CALSCALE:GREGORIAN
BEGIN:VEVENT
LOCATION:
SUMMARY:Deadly Story Event - Come and Try Auskick Warma Turtles - ECHUCA
DESCRIPTION:<p>Come along to our registration session for 2026 NAB AFL Auskick &amp\; Superkick. Two groups\, Auskick ages: 4&ndash\;7\, Super kick ages: 7-12.</p><ul>	<li><a data-auth="NotApplicable" data-linkindex="4" href="https://aus01.safelinks.protection.outlook.com/?url=https%3A%2F%2Fwww.facebook.com%2Fphoto%2F%3Ffbid%3D1529349055863505%26set%3Da.487449243386830&amp\;data=05%7C02%7C%7Ca9c06db41ef14630752208de84903686%7C83d9baa9273142d0b5211239119e74f7%7C0%7C0%7C639093952103870469%7CUnknown%7CTWFpbGZsb3d8eyJFbXB0eU1hcGkiOnRydWUsIlYiOiIwLjAuMDAwMCIsIlAiOiJXaW4zMiIsIkFOIjoiTWFpbCIsIldUIjoyfQ%3D%3D%7C0%7C%7C%7C&amp\;sdata=%2BPJpzTB3Or3cJFsOHraeBGlNi2DkWUO7ioi0za46bZo%3D&amp\;reserved=0" id="OWA75db998f-f9a4-d9f8-f9d2-ad9683d57899" originalsrc="https://www.facebook.com/photo/?fbid=1529349055863505&amp\;set=a.487449243386830" rel="noopener noreferrer" target="_blank" title="Original URL: https://www.facebook.com/photo/?fbid=1529349055863505&amp\;set=a.487449243386830. Click or tap if you trust this link.">See Event Details</a>&nbsp\;</li></ul>
DTSTART:20260422T163000
DTEND:20260422T173000
URL;VALUE=URI:https://deadlystory.com/page/culture/events-calendar/sports/Come_and_Try_Auskick_Warma_Turtles_-_ECHUCA
DTSTAMP:20260423T230551
UID:69ea192f868b6
END:VEVENT
END:VCALENDAR