BEGIN:VCALENDAR
VERSION:2.0
PRODID:-//hacksw/handcal//NONSGML v1.0//EN
CALSCALE:GREGORIAN
BEGIN:VEVENT
LOCATION:
SUMMARY:Deadly Story Event - Deadly Youth Excursion - HASTINGS
DESCRIPTION:<p>Wow&hellip\;this term has zoomed along really quickly. It&rsquo\;s nearly holiday time!&nbsp\; Don&rsquo\;t miss out on Funky Farm! All info below\, register by 10 April.</p><ul>	<li><a data-auth="NotApplicable" data-linkindex="3" href="https://aus01.safelinks.protection.outlook.com/?url=https%3A%2F%2Fwww.facebook.com%2Fphoto%2F%3Ffbid%3D1281096480875969%26set%3Da.496142312704727&amp\;data=05%7C02%7C%7Ca9c06db41ef14630752208de84903686%7C83d9baa9273142d0b5211239119e74f7%7C0%7C0%7C639093952103849922%7CUnknown%7CTWFpbGZsb3d8eyJFbXB0eU1hcGkiOnRydWUsIlYiOiIwLjAuMDAwMCIsIlAiOiJXaW4zMiIsIkFOIjoiTWFpbCIsIldUIjoyfQ%3D%3D%7C0%7C%7C%7C&amp\;sdata=BaZtX55vK9rcw%2Fk8Sc0M0OR8YUosKCDF5NzPyyExyX0%3D&amp\;reserved=0" id="OWA369263f7-a166-b0cf-cc52-d578efd240d9" originalsrc="https://www.facebook.com/photo/?fbid=1281096480875969&amp\;set=a.496142312704727" rel="noopener noreferrer" target="_blank" title="Original URL: https://www.facebook.com/photo/?fbid=1281096480875969&amp\;set=a.496142312704727. Click or tap if you trust this link.">See Event Details</a>&nbsp\;</li></ul>
DTSTART:20260417T100000
DTEND:20260417T140000
URL;VALUE=URI:https://deadlystory.com/page/culture/events-calendar/social/Deadly_Youth_Excursion_-_HASTINGS
DTSTAMP:20260423T225138
UID:69ea15da2f7c3
END:VEVENT
END:VCALENDAR