BEGIN:VCALENDAR
VERSION:2.0
PRODID:-//hacksw/handcal//NONSGML v1.0//EN
CALSCALE:GREGORIAN
BEGIN:VEVENT
LOCATION:
SUMMARY:Deadly Story Event - Of The Land On Which We Meet - FRANKSTON
DESCRIPTION:<p>Following their acclaimed performance of Arterial on our stage in 2025\, we are thrilled to welcome Na Djinang Circus back to Frankston in 2026 with this acclaimed production. Ages 10+. School groups welcome.</p><ul>	<li><a data-auth="NotApplicable" data-linkindex="2" href="https://aus01.safelinks.protection.outlook.com/?url=https%3A%2F%2Fartscentre.frankston.vic.gov.au%2FWhats-On%2FSeason-Shows%2FOf-the-Land-on-Which-We-Meet&amp\;data=05%7C02%7C%7Ca9c06db41ef14630752208de84903686%7C83d9baa9273142d0b5211239119e74f7%7C0%7C0%7C639093952103828552%7CUnknown%7CTWFpbGZsb3d8eyJFbXB0eU1hcGkiOnRydWUsIlYiOiIwLjAuMDAwMCIsIlAiOiJXaW4zMiIsIkFOIjoiTWFpbCIsIldUIjoyfQ%3D%3D%7C0%7C%7C%7C&amp\;sdata=Y%2B%2BV0sQiebS%2BhM0PbdvswVAJKxd5V592EF24JnOG4E0%3D&amp\;reserved=0" id="OWA6497afaa-2101-e475-798f-16701a6fcbce" originalsrc="https://artscentre.frankston.vic.gov.au/Whats-On/Season-Shows/Of-the-Land-on-Which-We-Meet" rel="noopener noreferrer" target="_blank" title="Original URL: https://artscentre.frankston.vic.gov.au/Whats-On/Season-Shows/Of-the-Land-on-Which-We-Meet. Click or tap if you trust this link.">See Event Details</a>&nbsp\;</li></ul>
DTSTART:20260410T193000
DTEND:20260410T203000
URL;VALUE=URI:https://deadlystory.com/page/culture/events-calendar/entertainment/Of_The_Land_On_Which_We_Meet_-_FRANKSTON
DTSTAMP:20260423T230433
UID:69ea18e1bee64
END:VEVENT
END:VCALENDAR