BEGIN:VCALENDAR
VERSION:2.0
PRODID:-//hacksw/handcal//NONSGML v1.0//EN
CALSCALE:GREGORIAN
BEGIN:VEVENT
LOCATION:
SUMMARY:Deadly Story Event - Easter Egg Hunt - HORSHAM
DESCRIPTION:<p>We invite all our Aboriginal &amp\; Torres Strait Islander Community &amp\; Families to Goolum Goolum&#39\;s Easter Egg Hunt for a fun afternoon picnic.</p><ul>	<li><a data-auth="NotApplicable" data-linkindex="1" href="https://aus01.safelinks.protection.outlook.com/?url=https%3A%2F%2Fwww.facebook.com%2Fphoto%2F%3Ffbid%3D1432716895551431%26set%3Da.472335851589545&amp\;data=05%7C02%7C%7Ca9c06db41ef14630752208de84903686%7C83d9baa9273142d0b5211239119e74f7%7C0%7C0%7C639093952103808668%7CUnknown%7CTWFpbGZsb3d8eyJFbXB0eU1hcGkiOnRydWUsIlYiOiIwLjAuMDAwMCIsIlAiOiJXaW4zMiIsIkFOIjoiTWFpbCIsIldUIjoyfQ%3D%3D%7C0%7C%7C%7C&amp\;sdata=k5uB0zhrFrdzlhL%2BBLvLw%2B6ga%2BdmQBno0ziH88xxGvA%3D&amp\;reserved=0" id="OWAed825037-d53a-f25e-6e85-7de6cdf7108b" originalsrc="https://www.facebook.com/photo/?fbid=1432716895551431&amp\;set=a.472335851589545" rel="noopener noreferrer" target="_blank" title="Original URL: https://www.facebook.com/photo/?fbid=1432716895551431&amp\;set=a.472335851589545. Click or tap if you trust this link.">See Event Details</a></li></ul>
DTSTART:20260402T150000
DTEND:20260402T180000
URL;VALUE=URI:https://deadlystory.com/page/culture/events-calendar/other/Easter_Egg_Hunt_-_HORSHAM
DTSTAMP:20260422T214947
UID:69e8b5db2012d
END:VEVENT
END:VCALENDAR