BEGIN:VCALENDAR
VERSION:2.0
PRODID:-//hacksw/handcal//NONSGML v1.0//EN
CALSCALE:GREGORIAN
BEGIN:VEVENT
LOCATION:
SUMMARY:Deadly Story Event - Get Active Kids Sports Voucher Program - VICTORIA
DESCRIPTION:<p>Eligible children may receive up to $200 to cover the costs for membership and registration fees. Applications are now open.</p><ul>	<li><a data-auth="NotApplicable" data-linkindex="2" href="https://aus01.safelinks.protection.outlook.com/?url=https%3A%2F%2Fwww.getactive.vic.gov.au%2Fvouchers%2Fapply-for-vouchers%2F&amp\;data=05%7C02%7C%7Ce634f9e774f94eea364508de7f077d9a%7C83d9baa9273142d0b5211239119e74f7%7C0%7C0%7C639087867324056578%7CUnknown%7CTWFpbGZsb3d8eyJFbXB0eU1hcGkiOnRydWUsIlYiOiIwLjAuMDAwMCIsIlAiOiJXaW4zMiIsIkFOIjoiTWFpbCIsIldUIjoyfQ%3D%3D%7C0%7C%7C%7C&amp\;sdata=Nz%2Fj6qHXWa%2ByahMhJyryXObZagw2CnQOtLkcGKxAZms%3D&amp\;reserved=0" id="OWAa0bf87f5-003c-7d8e-7a53-e4f054d2106b" originalsrc="https://www.getactive.vic.gov.au/vouchers/apply-for-vouchers/" rel="noopener noreferrer" target="_blank" title="Original URL: https://www.getactive.vic.gov.au/vouchers/apply-for-vouchers/. Click or tap if you trust this link.">See Event Details</a>&nbsp\;</li></ul>
DTSTART:20260303T100000
DTEND:20260402T100000
URL;VALUE=URI:https://deadlystory.com/page/culture/events-calendar/sports/Get_Active_Kids_Sports_Voucher_Program_-_VICTORIA
DTSTAMP:20260423T224629
UID:69ea14a525396
END:VEVENT
END:VCALENDAR