BEGIN:VCALENDAR
VERSION:2.0
PRODID:-//hacksw/handcal//NONSGML v1.0//EN
CALSCALE:GREGORIAN
BEGIN:VEVENT
LOCATION:
SUMMARY:Deadly Story Event - Tongue of the Heart Cultural Camp - WESTERN VACCA
DESCRIPTION:<p>Come together on Bunurong Country to share\, learn\, connect\, explore and take part in a range of fun activities! This camp is open to Aboriginal and Torres Strait Islander youth aged 12-17 years old. Registrations close 13 March.</p><ul>	<li><a data-auth="NotApplicable" data-linkindex="8" href="https://aus01.safelinks.protection.outlook.com/?url=https%3A%2F%2Fdeadlystory.com%2Fcontent%2FDocument%2F15APR26_WesternWurrungoftheNgangwurraCampFlyer.pdf&amp\;data=05%7C02%7C%7C954d225f61a240ca29f408de7804f2e7%7C83d9baa9273142d0b5211239119e74f7%7C0%7C0%7C639080159808132344%7CUnknown%7CTWFpbGZsb3d8eyJFbXB0eU1hcGkiOnRydWUsIlYiOiIwLjAuMDAwMCIsIlAiOiJXaW4zMiIsIkFOIjoiTWFpbCIsIldUIjoyfQ%3D%3D%7C0%7C%7C%7C&amp\;sdata=tQGhkaolbJThz%2BT0YnoJ%2BXrGaZWhhBfJgZcwnMLgAGU%3D&amp\;reserved=0" id="OWA27f067e8-8936-4941-0c61-e6db36a1de68" originalsrc="https://deadlystory.com/content/Document/15APR26_WesternWurrungoftheNgangwurraCampFlyer.pdf" rel="noopener noreferrer" target="_blank" title="Original URL: https://deadlystory.com/content/Document/15APR26_WesternWurrungoftheNgangwurraCampFlyer.pdf. Click or tap if you trust this link.">See Event Details</a>&nbsp\;</li></ul>
DTSTART:20260415T083000
DTEND:20260417T140000
URL;VALUE=URI:https://deadlystory.com/page/culture/events-calendar/other/Tongue_of_the_Heart_Cultural_Camp_-_WESTERN_VACCA
DTSTAMP:20260423T230616
UID:69ea19482c427
END:VEVENT
END:VCALENDAR