BEGIN:VCALENDAR
VERSION:2.0
PRODID:-//hacksw/handcal//NONSGML v1.0//EN
CALSCALE:GREGORIAN
BEGIN:VEVENT
LOCATION:
SUMMARY:Deadly Story Event - BADAC Family Day Camp - CRESWICK
DESCRIPTION:<p>Looking for something fun these school holidays? Bring the whole family along to our Family Day Camp at Log Cabin Camp in Creswick!</p><ul>	<li><a data-auth="NotApplicable" data-linkindex="7" href="https://aus01.safelinks.protection.outlook.com/?url=https%3A%2F%2Fwww.facebook.com%2Fphoto%2F%3Ffbid%3D920623976999181%26set%3Da.196309812763938&amp\;data=05%7C02%7C%7C954d225f61a240ca29f408de7804f2e7%7C83d9baa9273142d0b5211239119e74f7%7C0%7C0%7C639080159808114856%7CUnknown%7CTWFpbGZsb3d8eyJFbXB0eU1hcGkiOnRydWUsIlYiOiIwLjAuMDAwMCIsIlAiOiJXaW4zMiIsIkFOIjoiTWFpbCIsIldUIjoyfQ%3D%3D%7C0%7C%7C%7C&amp\;sdata=Fr8D6FcYbjHDVxuiLqK9x41ynpW7CTQoQQIk%2FCSN9Lg%3D&amp\;reserved=0" id="OWA9fc95886-199f-3ec7-e103-14f49a139995" originalsrc="https://www.facebook.com/photo/?fbid=920623976999181&amp\;set=a.196309812763938" rel="noopener noreferrer" target="_blank" title="Original URL: https://www.facebook.com/photo/?fbid=920623976999181&amp\;set=a.196309812763938. Click or tap if you trust this link.">See Event Details</a>&nbsp\;</li></ul><p>&nbsp\;</p>
DTSTART:20260415T090000
DTEND:20260416T180000
URL;VALUE=URI:https://deadlystory.com/page/culture/events-calendar/other/BADAC_Family_Day_Camp_-_CRESWICK
DTSTAMP:20260423T224751
UID:69ea14f713a43
END:VEVENT
END:VCALENDAR