BEGIN:VCALENDAR
VERSION:2.0
PRODID:-//hacksw/handcal//NONSGML v1.0//EN
CALSCALE:GREGORIAN
BEGIN:VEVENT
LOCATION:
SUMMARY:Deadly Story Event - Balert Ngulu Strong Voices Camp - SOUTHERN VACCA
DESCRIPTION:<p>Cultural activities &bull\; Canoeing &bull\; Possum Pull Deadly Lovin and more! For 12&ndash\;15 year olds. If you are interested in attending this camp please contact&nbsp\;<u><a data-linkindex="5" href="mailto:southernyouth@vacca.org" id="OWAe1611dfe-26be-4203-d516-006220ce16eb" title="mailto:southernyouth@vacca.org">southernyouth@vacca.org</a></u></p><ul>	<li><a data-auth="NotApplicable" data-linkindex="6" href="https://aus01.safelinks.protection.outlook.com/?url=https%3A%2F%2Fdeadlystory.com%2Fcontent%2FDocument%2F8APR26_Southern_Cultural_Camp_Flyer.pdf&amp\;data=05%7C02%7C%7C954d225f61a240ca29f408de7804f2e7%7C83d9baa9273142d0b5211239119e74f7%7C0%7C0%7C639080159808096839%7CUnknown%7CTWFpbGZsb3d8eyJFbXB0eU1hcGkiOnRydWUsIlYiOiIwLjAuMDAwMCIsIlAiOiJXaW4zMiIsIkFOIjoiTWFpbCIsIldUIjoyfQ%3D%3D%7C0%7C%7C%7C&amp\;sdata=fp22jQZcyZakU%2B5EdJ4Sk%2BIMx5q8Wn%2By27JTz7axJb0%3D&amp\;reserved=0" id="OWA30522c3c-5072-c491-0568-b91621188054" originalsrc="https://deadlystory.com/content/Document/8APR26_Southern_Cultural_Camp_Flyer.pdf" rel="noopener noreferrer" target="_blank" title="Original URL: https://deadlystory.com/content/Document/8APR26_Southern_Cultural_Camp_Flyer.pdf. Click or tap if you trust this link.">See Event Details</a>&nbsp\;</li></ul>
DTSTART:20260408T090000
DTEND:20260410T090000
URL;VALUE=URI:https://deadlystory.com/page/culture/events-calendar/other/Balert_Ngulu_Strong_Voices_Camp_-_SOUTHERN_VACCA
DTSTAMP:20260422T220458
UID:69e8b96a9aee4
END:VEVENT
END:VCALENDAR