BEGIN:VCALENDAR
VERSION:2.0
PRODID:-//hacksw/handcal//NONSGML v1.0//EN
CALSCALE:GREGORIAN
BEGIN:VEVENT
LOCATION:
SUMMARY:Deadly Story Event - Casey Aboriginal Easter Eggstravaganza - DOVETON
DESCRIPTION:<p>Hop into the Easter spirit by crafting your own easter hat and to collect all the chocolate eggs you can find!</p><ul>	<li><a data-auth="NotApplicable" data-linkindex="3" href="https://aus01.safelinks.protection.outlook.com/?url=https%3A%2F%2Fwww.facebook.com%2Fphoto%2F%3Ffbid%3D1225658236441597%26set%3Da.576319604708800&amp\;data=05%7C02%7C%7C954d225f61a240ca29f408de7804f2e7%7C83d9baa9273142d0b5211239119e74f7%7C0%7C0%7C639080159808058021%7CUnknown%7CTWFpbGZsb3d8eyJFbXB0eU1hcGkiOnRydWUsIlYiOiIwLjAuMDAwMCIsIlAiOiJXaW4zMiIsIkFOIjoiTWFpbCIsIldUIjoyfQ%3D%3D%7C0%7C%7C%7C&amp\;sdata=zOCAL4PBk0IOec3%2FD%2FbhEFfww9zAvZRJTdxJF%2BPtgLQ%3D&amp\;reserved=0" id="OWAea4f1c13-8f92-b29e-23a0-5e239cc8b559" originalsrc="https://www.facebook.com/photo/?fbid=1225658236441597&amp\;set=a.576319604708800" rel="noopener noreferrer" target="_blank" title="Original URL: https://www.facebook.com/photo/?fbid=1225658236441597&amp\;set=a.576319604708800. Click or tap if you trust this link.">See Event Details</a></li></ul>
DTSTART:20260401T160000
DTEND:20260401T190000
URL;VALUE=URI:https://deadlystory.com/page/culture/events-calendar/other/Casey_Aboriginal_Easter_Eggstravaganza_-_DOVETON
DTSTAMP:20260422T215114
UID:69e8b632d2a55
END:VEVENT
END:VCALENDAR