BEGIN:VCALENDAR
VERSION:2.0
PRODID:-//hacksw/handcal//NONSGML v1.0//EN
CALSCALE:GREGORIAN
BEGIN:VEVENT
LOCATION:
SUMMARY:Deadly Story Event - Ngarra Jarra Noun Healing Ceremony - ABBOTSFORD
DESCRIPTION:<p>Mindful Mob Healing Market with Mob Businesses. Healing Ceremony by Cultural Dance Groups.</p><ul>	<li><a data-auth="NotApplicable" data-linkindex="8" href="https://aus01.safelinks.protection.outlook.com/?url=https%3A%2F%2Fwww.facebook.com%2Fphoto%2F%3Ffbid%3D10166644896068356%26set%3Dpcb.1456723479509732&amp\;data=05%7C02%7C%7C4b40d55a0be84b6b3e0108de7420be00%7C83d9baa9273142d0b5211239119e74f7%7C0%7C0%7C639075881194672397%7CUnknown%7CTWFpbGZsb3d8eyJFbXB0eU1hcGkiOnRydWUsIlYiOiIwLjAuMDAwMCIsIlAiOiJXaW4zMiIsIkFOIjoiTWFpbCIsIldUIjoyfQ%3D%3D%7C0%7C%7C%7C&amp\;sdata=PXBUV0FtqmBA%2FEGGleBjS7JczFq4FUkqARsq%2FEW9AOM%3D&amp\;reserved=0" id="OWAdec3d74f-95a8-c5bd-52b4-bab314198061" originalsrc="https://www.facebook.com/photo/?fbid=10166644896068356&amp\;set=pcb.1456723479509732" rel="noopener noreferrer" target="_blank" title="Original URL: https://www.facebook.com/photo/?fbid=10166644896068356&amp\;set=pcb.1456723479509732. Click or tap if you trust this link.">See Event Details</a>&nbsp\;</li></ul>
DTSTART:20260419T120000
DTEND:20260419T180000
URL;VALUE=URI:https://deadlystory.com/page/culture/events-calendar/other/Ngarra_Jarra_Noun_Healing_Ceremony_-_ABBOTSFORD
DTSTAMP:20260423T223858
UID:69ea12e20e836
END:VEVENT
END:VCALENDAR