BEGIN:VCALENDAR
VERSION:2.0
PRODID:-//hacksw/handcal//NONSGML v1.0//EN
CALSCALE:GREGORIAN
BEGIN:VEVENT
LOCATION:
SUMMARY:Deadly Story Event - Stand Up Paddle Boarding Lessons - BALLARAT
DESCRIPTION:<p>We will be returning to Lake Esmond to go Stand Up Paddle Boarding!</p><ul>	<li><a data-auth="NotApplicable" data-linkindex="2" href="https://aus01.safelinks.protection.outlook.com/?url=https%3A%2F%2Fwww.facebook.com%2Fphoto%2F%3Ffbid%3D1313999910744775%26set%3Da.448261013985340&amp\;data=05%7C02%7C%7C340ffc24a51242f19e3a08de594daf10%7C83d9baa9273142d0b5211239119e74f7%7C0%7C0%7C639046387371242448%7CUnknown%7CTWFpbGZsb3d8eyJFbXB0eU1hcGkiOnRydWUsIlYiOiIwLjAuMDAwMCIsIlAiOiJXaW4zMiIsIkFOIjoiTWFpbCIsIldUIjoyfQ%3D%3D%7C0%7C%7C%7C&amp\;sdata=rPp7zmkS9hGwLzOJ6JsmCiAmXFX90bwQIEsNsDW7K8E%3D&amp\;reserved=0" id="OWA61f27019-6c12-0a2c-5906-0b233208f00c" originalsrc="https://www.facebook.com/photo/?fbid=1313999910744775&amp\;set=a.448261013985340" rel="noopener noreferrer" target="_blank" title="Original URL: https://www.facebook.com/photo/?fbid=1313999910744775&amp\;set=a.448261013985340. Click or tap if you trust this link.">See Event Details</a>&nbsp\;</li></ul>
DTSTART:20260211T160000
DTEND:20260325T180000
URL;VALUE=URI:https://deadlystory.com/page/culture/events-calendar/sports/Stand_Up_Paddle_Boarding_Lessons_-_BALLARAT
DTSTAMP:20260424T014405
UID:69ea3e45f071b
END:VEVENT
END:VCALENDAR