BEGIN:VCALENDAR
VERSION:2.0
PRODID:-//hacksw/handcal//NONSGML v1.0//EN
CALSCALE:GREGORIAN
BEGIN:VEVENT
LOCATION:
SUMMARY:Deadly Story Event - Koorie Youth Summit 2026 logo design - VIC
DESCRIPTION:<p>The Koorie Youth Council (KYC) is seeking expressions of interest from Aboriginal and/or Torres Strait Islander visual artists (aged 16&ndash\;28\, living in Victoria) to create an artwork or photograph for our Koorie Youth Summit 2026 logo. Artist fee: $2\,352.</p><ul>	<li><a data-auth="NotApplicable" data-linkindex="3" href="https://aus01.safelinks.protection.outlook.com/?url=https%3A%2F%2Fwww.facebook.com%2Fphoto%2F%3Ffbid%3D1259918826159429%26set%3Da.566537285497590&amp\;data=05%7C02%7C%7C549e0a8039454d9a4e1108de2715153d%7C83d9baa9273142d0b5211239119e74f7%7C0%7C0%7C638991168673721201%7CUnknown%7CTWFpbGZsb3d8eyJFbXB0eU1hcGkiOnRydWUsIlYiOiIwLjAuMDAwMCIsIlAiOiJXaW4zMiIsIkFOIjoiTWFpbCIsIldUIjoyfQ%3D%3D%7C0%7C%7C%7C&amp\;sdata=xWPaCyEp77PRJBzSwDEM0V0Gi7fZsK3DAAren1CiIEs%3D&amp\;reserved=0" id="OWAcefdc816-e077-aeee-a3af-b37e524c4397" originalsrc="https://www.facebook.com/photo/?fbid=1259918826159429&amp\;set=a.566537285497590" rel="noopener noreferrer" target="_blank" title="Original URL: https://www.facebook.com/photo/?fbid=1259918826159429&amp\;set=a.566537285497590. Click or tap if you trust this link.">See Event Details</a>&nbsp\;</li></ul>
DTSTART:20251118T170000
DTEND:20251208T170000
URL;VALUE=URI:https://deadlystory.com/page/culture/events-calendar/other/Koorie_Youth_Summit_2026_logo_design_-_VIC
DTSTAMP:20260422T214424
UID:69e8b498aa8e7
END:VEVENT
END:VCALENDAR