BEGIN:VCALENDAR
VERSION:2.0
PRODID:-//hacksw/handcal//NONSGML v1.0//EN
CALSCALE:GREGORIAN
BEGIN:VEVENT
LOCATION:
SUMMARY:Deadly Story Event - Baymob Expo - FRANKSTON
DESCRIPTION:<p>Bay Mob is proud to host our annual Aboriginal and Torres Strait Islander Health and Wellness Expo\, celebrating culture\, community\, and wellbeing.</p><ul>	<li><a data-auth="NotApplicable" href="https://aus01.safelinks.protection.outlook.com/?url=https%3A%2F%2Fwww.facebook.com%2Fphoto%2F%3Ffbid%3D1108908291270674%26set%3Da.618920270269481&amp\;data=05%7C02%7C%7Cb9b94746b15943fd0b3a08ddae1f42cf%7C83d9baa9273142d0b5211239119e74f7%7C0%7C0%7C638858171474466089%7CUnknown%7CTWFpbGZsb3d8eyJFbXB0eU1hcGkiOnRydWUsIlYiOiIwLjAuMDAwMCIsIlAiOiJXaW4zMiIsIkFOIjoiTWFpbCIsIldUIjoyfQ%3D%3D%7C0%7C%7C%7C&amp\;sdata=Qc2H4zf7ZGzaxL9Yjk7ao5ykyF5wDTAILLLGjCLn5Qo%3D&amp\;reserved=0" id="OWAfb6a235a-262a-ec32-a5a4-8a6c8584aac6" originalsrc="https://www.facebook.com/photo/?fbid=1108908291270674&amp\;set=a.618920270269481" rel="noopener noreferrer" target="_blank" title="Original URL: https://www.facebook.com/photo/?fbid=1108908291270674&amp\;set=a.618920270269481. Click or tap if you trust this link.">See Event Details</a>&nbsp\;</li></ul>
DTSTART:20250918T103000
DTEND:20250918T153000
URL;VALUE=URI:https://deadlystory.com/page/culture/events-calendar/other/Baymob_Expo_-_FRANKSTON
DTSTAMP:20260422T215545
UID:69e8b74160004
END:VEVENT
END:VCALENDAR