BEGIN:VCALENDAR
VERSION:2.0
PRODID:-//hacksw/handcal//NONSGML v1.0//EN
CALSCALE:GREGORIAN
BEGIN:VEVENT
LOCATION:
SUMMARY:Deadly Story Event - TERM 4 - COMMUNITY Activities
DESCRIPTION:<p>Term 4&nbsp\;in Victoria runs from 7 October&nbsp\;- 20 December. The activities below are run during this period. These activities are open for the broader community. For more information\, please follow the embedded links and contact the host organisation directly.</p><p>&nbsp\;</p><h1>Community Activities</h1><h3>Mondays</h3><ul>	<li><a href="https://www.facebook.com/photo/?fbid=969279741906335&amp\;set=a.467176982116616" target="_blank">BADAC Carers Circle - BALLARAT</a><br />	(for cares looking after young mob)</li>	<li><a href="https://www.facebook.com/photo/?fbid=777650254402626&amp\;set=a.408746707959651" target="_blank">Community Smoking Ceremonies - PRESTON</a><br />	(All welcome)</li>	<li><a href="https://www.facebook.com/photo/?fbid=915682923925230&amp\;set=a.455530759940451" target="_blank">GEGAC Yoga Sessions - GIPPSLAND</a></li>	<li><a href="https://www.facebook.com/photo/?fbid=10163572974094768&amp\;set=gm.903251994856886&amp\;idorvanity=528721935643229" target="_blank">Gurwidj Women&rsquo\;s Group - THORNBURY</a><br />	(Culturally safe space for women)</li>	<li><a href="https://www.facebook.com/photo/?fbid=822985673190493&amp\;set=a.552168673605529" target="_blank">Men&rsquo\;s BBQ Lunch - MVAC</a><br />	(Aboriginal &amp\; Torres Strait Islander Men)</li>	<li><font size="3"><a href="https://deadlystory.com/icms_docs/340895_Windook_Dads_Group_-_FRANKSTON.pdf" target="_blank">Windook Dads Group - FRANKSTON</a><br />	(For Fathers\, Carers\, Uncles and Granddads)</font></li></ul><h3>Tuesdays</h3><ul>	<li><a href="https://www.facebook.com/photo/?fbid=816524260518915&amp\;set=a.479879674183377" target="_blank">Djirra Virtual Sista Yarns - ONLINE</a></li>	<li><a href="https://www.facebook.com/photo/?fbid=933868142106708&amp\;set=a.455530759940451" target="_blank">GEGAC Men&#39\;s Fitness Sessions - BAIRNSDALE</a></li>	<li><span style="font-size: medium\; letter-spacing: 0.63px\;"><a href="https://www.facebook.com/photo/?fbid=798977905596068&amp\;set=a.638454868315040" target="_blank">Parenting Group - NORTH GEELONG</a><br />	(For Parents/Carers of Aboriginal Children\, Pre-birth to 5 years)</span></li>	<li><font size="3"><a href="https://www.facebook.com/photo/?fbid=10228771316861549&amp\;set=gm.1041887180993366&amp\;idorvanity=528721935643229" target="_blank">Ngwala Women&rsquo\;s Group - NORTHCOTE</a></font></li></ul><h3>Wednesdays</h3><ul>	<li><a href="https://www.facebook.com/photo/?fbid=1280380119998318&amp\;set=a.890133772356290" target="_blank">Aldara Yenara Men&rsquo\;s Program - KYABRAM</a><br />	(culturally safe space for men)</li>	<li><a href="https://www.facebook.com/photo/?fbid=812224767611588&amp\;set=a.461118802722188" target="_blank">Barrbunin Beek\, Mums &amp\; Dads Yarning Circle - HEIDELBERG WEST</a><br />	(For Mum&rsquo\;s with Boorai under 18 months or expecting)</li>	<li><a href="https://www.facebook.com/photo/?fbid=934998325334484&amp\;set=a.408746707959651" target="_blank">Dardi Munwurro Men&#39\;s Healing &amp\; Behaviour Change - GEELONG WEST</a><br />	(held fortnightly\, check with Dardi for upcoming dates)</li>	<li><a href="https://www.facebook.com/photo/?fbid=888340353326489&amp\;set=a.638454868315040" target="_blank">Gather: Art &amp\; Connection Space - GEELONG WEST</a><br />	(Creative space for culture &amp\; healing)</li>	<li><a href="https://www.facebook.com/photo?fbid=769310685230438&amp\;set=pcb.769311031897070" target="_blank">Koorie Women&rsquo\;s Art &amp\; Culture Group - FRANKSTON</a><br />	(Connect with art\, cultural excursions &amp\; activities)</li>	<li><a href="https://www.facebook.com/photo/?fbid=853047190196012&amp\;set=a.461118812722187" target="_blank">Mums &amp\; Boorais Yarning Circle - HEIDELBERG WEST</a><br />	(Bring your Boorai. Connect with other Mothers)</li>	<li><a href="https://www.facebook.com/photo/?fbid=1066767018788380&amp\;set=a.487449243386830" target="_blank">Njernda Women&#39\;s Group - ECHUCA</a></li>	<li><a href="https://www.facebook.com/photo/?fbid=772326888261724&amp\;set=pcb.772326908261722" target="_blank">Rumbalara Women&rsquo\;s Group - SHEPPARTON</a><br />	(Yarning sessions\, cultural projects\, and exciting day trips)</li>	<li><a href="https://www.facebook.com/photo/?fbid=736006038650679&amp\;set=a.417514550499831" target="_blank">Sisters Woodwork - MERNDA</a><br />	(Skill building program with wood. Transport available)</li>	<li><a href="https://www.facebook.com/photo/?fbid=914991557328035&amp\;set=a.638454868315040" target="_blank">Wathaurong Women&#39\;s group - NORLANE</a><br />	(*No group on the 3rd Wednesday of the month.)</li></ul><h3>Thursdays</h3><ul>	<li><a href="https://www.facebook.com/photo/?fbid=1131024064912057&amp\;set=gm.942374227611329&amp\;idorvanity=528721935643229" target="_blank">Aldara Yenara Women&rsquo\;s Program - MOOROOPNA</a><br />	(Learn new skills and knowledge arts and crafts. Children welcome)</li>	<li><a href="https://www.facebook.com/photo/?fbid=10163114993246336&amp\;set=pcb.912658970582855" target="_blank">Cooinda&rsquo\;s Men&rsquo\;s Group - SUNSHINE</a><br />	(Cultural activities)</li>	<li><a href="https://www.facebook.com/photo/?fbid=880699637423559&amp\;set=a.455530759940451" target="_blank">GEGAC Ladies Only Fitness Session - BAIRNSDALE</a><br />	(Free\, suitable for all fitness levels.&nbsp\;Email register:&nbsp\;tamasin.rankin@gegac.org.au)</li>	<li><a href="https://www.facebook.com/photo/?fbid=757085346451656&amp\;set=a.455530759940451" target="_blank">Ladies Fitness Sessions - BAIRNSDALE</a><br />	(For women of all ages and fitness levels)</li>	<li><a href="https://www.facebook.com/photo/?fbid=784292190393175&amp\;set=a.552168673605529" target="_blank">MVAC Women&rsquo\;s Group - ROBINVALE</a><br />	(A warm and inclusive space)</li>	<li><a href="https://www.facebook.com/photo/?fbid=884973823664123&amp\;set=pcb.884975280330644" target="_blank">Nairm Marr Djambana Community Lunch - FRANKSTON</a><br />	(12 - 1:30pm every Thursday.)</li>	<li><a href="https://www.facebook.com/photo/?fbid=772326871595059&amp\;set=pcb.772326908261722" target="_blank">Rumbalara Men&rsquo\;s Group - SHEPPARTON</a><br />	(Yarn sessions\, cultural projects\, and exciting day trips)</li></ul><h3>Fridays</h3><ul>	<li><a href="https://www.facebook.com/photo/?fbid=866348035526702&amp\;set=pcb.866348342193338" target="_blank">Nairm Marr Djbana&nbsp\;Men&rsquo\;s Program - FRANKSTON</a></li>	<li><a href="https://www.facebook.com/photo/?fbid=842933794540938&amp\;set=a.408746707959651" target="_blank">Smoking Ceremony at Aunty Alma&rsquo\;s Gathering Place - PRESTON</a><br />	(Smoking Ceremony\, free breakfast\, coffee &amp\; tea)</li></ul><h3>Saturdays</h3><ul>	<li><a href="https://www.facebook.com/photo/?fbid=824265843075225&amp\;set=a.632743535560791" target="_blank">Naarm Rainbow Dad&rsquo\;s Group - NORTH FITZROY</a><br />	(Drop in playgroup for Rainbow Dads)</li></ul><p>&nbsp\;</p><h2>Other Notices</h2><ul>	<li><a href="https://www.acmi.net.au/whats-on/first-nations-film-club/" target="_blank">ACMI First Nations Film Club</a>&nbsp\;<br />	A monthly meet-up for Aboriginal and Torres Strait Islander people to watch and discuss First Nations films.&nbsp\;&nbsp\;</li>	<li><em>SUPPORT -</em> <a href="https://www.dpvhealth.org.au/all-services/victims-assistance/" target="_blank">Aboriginal Engagement Worker for Victims of Crime in the community</a>&nbsp\;<br />	This is a voluntary\, confidential\, and free service which is funded by the Victorian Government Department of Justice and Community Safety.</li>	<li><em>NOW OPEN &ndash\;</em> <a href="https://www.bendigoregion.com.au/arts-culture-theatres/exhibitions/djaara-lights" target="_blank">Djaara Lights &ndash\; BENDIGO</a>&nbsp\;<br />	A sequence of activations tells stories of the Dja Dja Wurrung six seasons on Djandak (Country) from Dja Dja Wurrung People. On until November 2027.</li>	<li><em>CAREER -</em> <a href="https://www.facebook.com/photo/?fbid=871392364992514&amp\;set=a.487449243386830" target="_blank">Free Tafe Courses for Indigenous Students - BENDIGO</a>&nbsp\;<br />	Skills First - a Victorian Government program that provides access to subsidised training for eligible courses - now offers Tuition Fee subsidies for Indigenous students.&nbsp\;&nbsp\;&nbsp\;</li>	<li><em>SUPPORT -</em> <a href="https://www.njernda.com.au/wp-content/uploads/2023/03/Confirmation-of-Aboriginality-Form-NEW.pdf" target="_blank">Njernda Confirmation of Aboriginality</a>&nbsp\;<br />	Njernda has released its new procedures to support Community receive their Confirmation of Aboriginality. Please read carefully their procedures &amp\; eligibility guidelines.&nbsp\;</li>	<li><em>SUPPORT -</em> <a href="https://www.facebook.com/photo/?fbid=1613016775867931&amp\;set=a.654152148421070" target="_blank">Kirrip Community Counsellors - MELTON SOUTH</a>&nbsp\;<br />	Kirrip Aboriginal Corporation now have Aboriginal Identified counsellors available to all Aboriginal and Torres Strait Islander youth and families.&nbsp\;</li>	<li><em>SUPPORT -</em> <a href="https://deadlystory.com/icms_docs/338017_ACES_Activity_Group_-_Client_Information_Booklet.pdf" target="_blank">ACES Activity Group - Client Information Booklet&nbsp\;</a><br />	A care service for frail Community over 45 years of age. This is their client information book.&nbsp\;</li>	<li><em>EOi -</em> <a href="https://www.facebook.com/photo/?fbid=893113506185928&amp\;set=a.559185076245441" target="_blank">Community Boxing Training - WANGARATTA</a><br />	We&#39\;re looking for motivated individuals to join our free boxing training program! Available from ages starting from late primary school age - 10 to 12\, High School students\, and to Adults.</li>	<li>&nbsp\;<em>EOi&nbsp\;-</em> <a href="https://www.ilbijerri.com.au/programs/blackstage/" target="_blank">BLACKSTAGE - Ilbijerri Theatre&nbsp\;</a><br />	BlackStage is a development program offering the opportunity for mentoring in all aspects of theatre production such as set and costume design\, lighting\, sound\, production management\, touring and theatre direction. &nbsp\;&nbsp\;</li>	<li><em>ONGOING 2024 -</em> <a href="https://www.facebook.com/photo/?fbid=818950786931778&amp\;set=a.455530759940451" target="_blank">Cultural Outings &amp\; Fishing Days - GIPPSLAND&nbsp\;</a><br />	Hosted by GEGAC\, check out their cultural outings calendar. All contact information provided via post linked above. Coming together\, connection\, yarning\, tucker and a laugh helps build a stronger\, more resilient community.&nbsp\;</li>	<li><em>EOi -</em> <strong>2025 Australian Open Jobs for Community&nbsp\;</strong><br />	For anyone interested in roles (paid) at 2025 Australian Open\, inbox the Koorie Academy Basketball at koorieacademy@gmail.com&nbsp\;</li></ul>
DTSTART:20241007T080000
DTEND:20241220T180000
URL;VALUE=URI:https://deadlystory.com/page/culture/events-calendar/other/TERM_4_-_COMMUNITY_Activities
DTSTAMP:20260422T215115
UID:69e8b63329317
END:VEVENT
END:VCALENDAR