BEGIN:VCALENDAR
VERSION:2.0
PRODID:-//hacksw/handcal//NONSGML v1.0//EN
CALSCALE:GREGORIAN
BEGIN:VEVENT
LOCATION:
SUMMARY:Deadly Story Event - TERM 4 - YOUTH Activities
DESCRIPTION:<p>Term 4&nbsp\;in Victoria runs from 7 October&nbsp\;- 20 December. The activities below are run during this period. These are Youth focused activities. For more information\, <span style="color:#000000\;"><strong>please follow the embedded links</strong></span> and contact the host organisation directly.</p><p>&nbsp\;</p><h1>Youth Activities</h1><h3>Term 4</h3><ul>	<li><a href="https://www.facebook.com/photo/?fbid=1072809801517241&amp\;set=a.615092970622262" target="_blank">Winda-Mara&nbsp\;Youth Programs - HEYWOOD &amp\; HAMILTON</a><br />	(across different age groups for the whole week)</li></ul><h3>Mondays</h3><ul>	<li><a href="https://www.facebook.com/photo/?fbid=951134810387495&amp\;set=pcb.951135480387428" target="_blank">BADAC Playgroup Activity Schedule - BALLARAT</a></li>	<li><a href="https://www.facebook.com/photo/?fbid=546629334398649&amp\;set=a.196309809430605" target="_blank">BADAC Youth Group Activity Schedule - BALLARAT</a></li>	<li><a href="https://www.facebook.com/photo/?fbid=899808725517649&amp\;set=a.462973462534513" target="_blank">Northern VACCA Koorie Kids Playgroup Mums and Bubs - HEIDELBERG</a><br />	(Families with bubs 0 - 2 years)</li>	<li><a href="https://deadlystory.com/icms_docs/340914_2024_Art_Mentoring_Program_Flyer_-_PRESTON.pdf" target="_blank">VACCA Art Mentoring Program &ndash\; PRESTON</a><br />	(Youth 12+ years)</li>	<li><a href="https://www.facebook.com/photo/?fbid=973887884771735&amp\;set=a.638454868315040" target="_blank">Wauthaurong Youth Mentoring Program - NORLANE</a><br />	(Primary school aged kids)</li>	<li><a href="https://deadlystory.com/icms_docs/340855_Western_Koorie_Kids_Playgroup.pdf" target="_blank">Western VACCA Koorie Kids Playgroup - KINGS PARK</a><br />	(Families with children 0 - 5 years)</li>	<li><a href="https://forms.office.com/pages/responsepage.aspx?id=QimgRFtOCkKLxPYLkSgfLoQfxaiguhFHjuI5MHyZliNUQVIzRFc1WUlTTThHU1hFWUo1TVRBNkVJRyQlQCN0PWcu" target="_blank">Yan-Yan Yaruk Youth Program - DOVETON</a><br />	(Cultural activities&nbsp\;for Youth&nbsp\;10-25 years)</li></ul><h3>Tuesdays</h3><ul>	<li><a href="https://www.facebook.com/photo/?fbid=10163752390409768&amp\;set=gm.961201799061905&amp\;idorvanity=528721935643229" target="_blank">Koorie Homework Club - ST. ALBANS</a><br />	(Primary and secondary students)</li>	<li><a href="https://deadlystory.com/icms_docs/340915_Northern_VACCA_Koorie_Kids_Playgroup_Flyer_2024.pdf" target="_blank">Northern VACCA Koorie Kids Playgroup - RESERVOIR</a><br />	(Families with children 0 - 5 years)</li>	<li><a href="https://deadlystory.com/icms_docs/340894_Southern_Koorie_Homework_Club.pdf" target="_blank">Southern VACCA - Koorie Kids Homework Club - DANDENONG</a></li>	<li><a href="https://deadlystory.com/icms_docs/340892_Southern_VACCA_-_Koorie_Kids_Playgroup.pdf" target="_blank">Southern VACCA - Koorie Kids Playgroup - PAKENHAM</a><br />	(Families with children 0 - 5 years)</li>	<li><a href="https://deadlystory.com/icms_docs/340855_Western_Koorie_Kids_Playgroup.pdf" target="_blank">Western VACCA Koorie Kids Playgroup - POINT COOK</a><br />	(Families with children 0 - 5 years)</li></ul><h3>Wednesdays</h3><ul>	<li><a href="https://www.facebook.com/photo/?fbid=1280381496664847&amp\;set=a.890133772356290" target="_blank">Aldara Yenara Girls Program - MOOROOPNA</a><br />	(for ages 6 - 13)</li>	<li><a href="https://www.facebook.com/photo/?fbid=895721585928818&amp\;set=pcb.895722919262018" target="_blank">BADAC Lil Lubly&rsquo\;s Playgroup - BALLARAT</a></li>	<li><a href="https://www.facebook.com/photo/?fbid=494724959589087&amp\;set=a.196309812763938" target="_blank">BADAC Youth Cultural Strengthening Program - BALLARAT</a><br />	(16+)</li>	<li><a href="https://www.facebook.com/photo/?fbid=858313389671279&amp\;set=a.462560209246601" target="_blank">Cultural Dance Workshop - SUNBURY</a><br />	(For Koorie Youth)</li>	<li><a href="https://www.facebook.com/photo/?fbid=855912539897806&amp\;set=a.552168660272197" target="_blank">MVAC Coolamon Kids - ROBINVALE</a><br />	(Families/carers with children 0 - 5 years)</li>	<li><a href="https://www.facebook.com/photo/?fbid=813167707663772&amp\;set=a.542424158071463" target="_blank">MDAS Youth Hub - MILDURA</a></li>	<li><a href="https://deadlystory.com/icms_docs/340915_Northern_VACCA_Koorie_Kids_Playgroup_Flyer_2024.pdf" target="_blank">Northern VACCA Koorie Kids Playgroup - THOMASTOWN</a><br />	(Families with children 0 - 5 years)</li>	<li><a href="https://www.facebook.com/photo/?fbid=1011888847609531&amp\;set=a.487449243386830" target="_blank">Njernda Homework Classes - ECHUCA</a><br />	(Primary focus&nbsp\;literacy &amp\; numeracy. Contact Nicole on 0499 820 320)</li>	<li><a href="https://www.facebook.com/photo/?fbid=827948332699579&amp\;set=a.472183774942705" target="_blank">Play Connect+ (All Abilities Playgroup) - SHEPPARTON</a><br />	(Open to all with disability and/or developmental concerns aged 0 - 6 years)</li>	<li><a href="https://deadlystory.com/icms_docs/340892_Southern_VACCA_-_Koorie_Kids_Playgroup.pdf" target="_blank">Southern VACCA - Koorie Kids Playgroup - DANDENONG</a><br />	(Families with children 0 - 5 years)</li>	<li><a href="https://deadlystory.com/icms_docs/340892_Southern_VACCA_-_Koorie_Kids_Playgroup.pdf" target="_blank">Southern VACCA - Koorie Kids Playgroup - FRANKSTON</a><br />	(Families with children 0 - 5 years)</li>	<li><a href="https://deadlystory.com/icms_docs/340894_Southern_Koorie_Homework_Club.pdf" target="_blank">Southern VACCA - Koorie Kids Homework Club - FRANKSTON</a></li>	<li><a href="https://deadlystory.com/icms_docs/340854_Western_Homework_Club.pdf" target="_blank">Western VACCA Homework Club - WERRIBEE</a><br />	(Students Pre to Year 6)</li>	<li><a href="https://deadlystory.com/icms_docs/340855_Western_Koorie_Kids_Playgroup.pdf" target="_blank">Western VACCA Koorie Kids Playgroup - BROOKFIELD</a><br />	(Families with children 0 - 5 years)</li>	<li><a href="https://www.facebook.com/photo/?fbid=1045870247544530&amp\;set=a.615092970622262" target="_blank">Willarn Playgroup - HAMILTON</a><br />	(Families with children 0 - 5)</li>	<li><a href="https://www.facebook.com/photo/?fbid=919496320219652&amp\;set=a.462560209246601" target="_blank">Youth Boxing - SUNBURY</a><br />	(For young people aged 13 to 18)&nbsp\;</li></ul><h3>Thursdays</h3><ul>	<li><a href="https://www.facebook.com/photo/?fbid=835899321912686&amp\;set=pcb.835899358579349" target="_blank">Koorie Youth Group - SUNBURY</a><br />	(School aged&nbsp\;young people)</li>	<li><a href="https://www.facebook.com/photo/?fbid=884973703664135&amp\;set=pcb.884975280330644" target="_blank">Kirrup Playtime - FRANKSTON</a><br />	(Our kids connecting with culture and having fun. 0-4yrs program)</li>	<li><a href="https://www.facebook.com/photo/?fbid=850886727225203&amp\;set=a.542424141404798" target="_blank">MDAS Passion and Purpose Dance - KERANG</a><br />	(for ages 0 - 5)</li>	<li><a href="https://www.facebook.com/photo/?fbid=870899705071108&amp\;set=a.472183774942705" target="_blank">Rumbalara Yalka Yarning - MOOROOPNA</a><br />	(Kids\, parents\, carers all welcome!)</li>	<li><a href="https://www.deadlystory.com/content/Image/Events%202/24Oct24-Street2artGraffitiProgram.png" target="_blank">Streets 2 Art Graffiti Program - COLLINGWOOD</a><br />	(young people 16 - 21)</li>	<li><a href="https://deadlystory.com/icms_docs/340892_Southern_VACCA_-_Koorie_Kids_Playgroup.pdf" target="_blank">Southern VACCA - Koorie Kids Playgroup - CRANBOURNE</a><br />	(Families with children 0 - 5 years)</li>	<li><a href="https://deadlystory.com/icms_docs/340894_Southern_Koorie_Homework_Club.pdf" target="_blank">Southern VACCA - Koorie Kids Homework Club - CRANBOURNE</a></li>	<li><a href="https://deadlystory.com/icms_docs/340855_Western_Koorie_Kids_Playgroup.pdf" target="_blank">Western VACCA Koorie Kids Playgroup - WYNDHAM VALE</a><br />	(Families with children 0 - 5 years)</li></ul><h3>Fridays</h3><ul>	<li><a href="https://www.facebook.com/photo/?fbid=951134810387495&amp\;set=pcb.951135480387428" target="_blank">BADAC Playgroup Activity Schedule - BALLARAT</a></li>	<li><a href="https://forms.office.com/pages/responsepage.aspx?id=QimgRFtOCkKLxPYLkSgfLoQfxaiguhFHjuI5MHyZliNUQ1BRVEVYR0FDSFRCREo0WDRYU1FaREpVRCQlQCN0PWcu" target="_blank">Casey Aboriginal Family Playgroup - DOVETON</a><br />	(Families with children 0 - 5 years)</li>	<li><a href="https://deadlystory.com/icms_docs/340915_Northern_VACCA_Koorie_Kids_Playgroup_Flyer_2024.pdf" target="_blank">Northern VACCA Koorie Kids Playgroup - WHITTLESEA</a><br />	(Families with children 0 - 5 years)</li>	<li><a href="https://deadlystory.com/icms_docs/340892_Southern_VACCA_-_Koorie_Kids_Playgroup.pdf" target="_blank">Southern VACCA - Koorie Kids Playgroup - ONLINE &amp\; VARIOUS IN-PERSON</a><br />	(Families with children 0 - 5 years)</li>	<li><a href="https://www.facebook.com/photo/?fbid=1075178941280327&amp\;set=a.615092970622262" target="_blank">Willarn Playgroup - HEYWOOD</a><br />	(Families with children 0 - 5)</li></ul><p>&nbsp\;</p><h2>Other Notices</h2><ul>	<li><em>SURVEY - </em><a href="https://www.surveymonkey.com/r/ZQBMR9W" target="_blank">Youth Engagement Framework Questionnaire</a><br />	Do you identify as an Aboriginal or Torres Strait Islander young person aged 12 - 28 living in<br />	Victoria? Link above.</li>	<li><em>OPEN - </em><a href="https://www.facebook.com/photo/?fbid=406934925067029&amp\;set=a.213905821036608" target="_blank">Strong Brother Strong Sister Youth Drop-In - NORTH GEELONG</a><br />	Daily Youth Drop in Monday - Friday at the newly opened Strong Brother Strong Sister<br />	Youth Hub.</li>	<li><em>EOi&nbsp\;-</em> <a href="https://forms.office.com/pages/responsepage.aspx?id=c7eHETV0x0mw8smxexNODuxCko81C8lEjVCuTBPM0kpUMkdNNEFIWEtVV1A3QUpNNDNDNTBJOExSVSQlQCN0PWcu" target="_blank">Museums Victoria First Peoples Cadetship Program 2024</a><br />	We are excited for Expressions of interest from First Peoples youth aged 16-22. Whether<br />	you are enrolled in year 10\, 11 or 12 you are encouraged to apply!</li>	<li><em>EOi&nbsp\;-</em> <a href="https://www.koorieyouthcouncil.org.au/kyc-executive-committee-expression-of-interest-form/" target="_blank">Koorie Youth Council Executive Committee</a><br />	Looking for young mob aged between 16 &ndash\; 25 at time of application. See link above for<br />	details &amp\; registration.</li>	<li><em>EOi&nbsp\;-</em> <a href="https://www.facebook.com/photo/?fbid=951348063663610&amp\;set=a.487449243386830" target="_blank">2024 Njernda Netball Program - NJERNDA</a><br />	Ages 5 - 7 years &amp\; Primary upwards. To come together\, to play a team sport in community<br />	every Saturday!</li>	<li><em>EOi -</em> <a href="https://www.facebook.com/photo/?fbid=476857695104251&amp\;set=gm.1010030220845729&amp\;idorvanity=528721935643229" target="_blank">Yorta Yorta Turtles Under 12&rsquo\;s Netball - SHEPPARTON</a><br />	Our turtle basketball family is looking for under 12 girls with a passion for basketball and experience playing in a domestic team\, as well as those who identify as Aboriginal.</li>	<li><em>CONNECT&nbsp\;-</em> <a href="https://switchboard.us2.list-manage.com/subscribe?u=9d82bd9bd5c51ed7eab3a129b&amp\;id=b9b34714a1" target="_blank">Stay connected with Switchboard&rsquo\;s QTIBPoC Program!</a><br />	You will receive updates about our program\, events\, workshops\, and more.</li>	<li><em>CAREER -</em> <a href="https://www.nita.edu.au" target="_blank">National Indigenous Training Academy - NT</a><br />	The unique training\, working and residential program supports trainees to participate in the<br />	local community\, learn life skills and build a solid foundation for their future career. It<br />	includes accommodation and a dedicated residential and training team on location.</li>	<li><em>CAREER -</em> <a href="https://rumbalara.org.au/wp-content/uploads/Career-Pathways.pdf" target="_blank">Rumbalara Career Pathways Guide - SHEPPARTON</a><br />	Rumbalara have created this excellent career pathways guide for anyone looking for support<br />	to guide them in the right direction towards their dream job/career.</li>	<li><em>SCHOOL SUPPORT &ndash\;</em> <a href="https://www2.education.vic.gov.au/pal/financial-help-families/policy" target="_blank">Financial Help for Families</a><br />	Schools must prepare for and support families who are experiencing financial hardship in<br />	order to facilitate student participation in the full school program.</li>	<li><em>KINDERGARTEN&nbsp\;&ndash\;</em> <a href="https://www.vic.gov.au/koorie-kids-shine" target="_blank">Koorie Kids Shine</a><br />	Aboriginal and/or Torres Strait Islander children can get up to 15 hours of free or low cost kindergarten each week.</li></ul>
DTSTART:20241007T080000
DTEND:20241220T180000
URL;VALUE=URI:https://deadlystory.com/page/culture/events-calendar/other/TERM_4_-_YOUTH_Activities
DTSTAMP:20260422T215142
UID:69e8b64e439f5
END:VEVENT
END:VCALENDAR